{
 "currentVersion": 11.1,
 "serviceDescription": "RARR/rD100yrFU",
 "name": "RARR/rD100yrFU",
 "description": "",
 "extent": {
  "xmin": 1400428.8715782,
  "ymin": 460280.00000000733,
  "xmax": 1533768.8715782,
  "ymax": 645340.0000000073,
  "spatialReference": {
   "wkt": "PROJCS[\"NAD_1983_StatePlane_North_Carolina_FIPS_3200_Feet\",GEOGCS[\"GCS_North_American_1983\",DATUM[\"D_North_American_1983\",SPHEROID[\"GRS_1980\",6378137.0,298.257222101]],PRIMEM[\"Greenwich\",0.0],UNIT[\"Degree\",0.0174532925199433]],PROJECTION[\"Lambert_Conformal_Conic\"],PARAMETER[\"False_Easting\",2000000.002616666],PARAMETER[\"False_Northing\",0.0],PARAMETER[\"Central_Meridian\",-79.0],PARAMETER[\"Standard_Parallel_1\",34.33333333333334],PARAMETER[\"Standard_Parallel_2\",36.16666666666666],PARAMETER[\"Latitude_Of_Origin\",33.75],UNIT[\"Foot_US\",0.3048006096012192]],VERTCS[\"NAVD_1988\",VDATUM[\"North_American_Vertical_Datum_1988\"],PARAMETER[\"Vertical_Shift\",0.0],PARAMETER[\"Direction\",1.0],UNIT[\"Foot_US\",0.3048006096012192]]"
  }
 },
 "initialExtent": {
  "xmin": 1400428.8715782,
  "ymin": 460280.00000000733,
  "xmax": 1533768.8715782,
  "ymax": 645340.0000000073,
  "spatialReference": {
   "wkt": "PROJCS[\"NAD_1983_StatePlane_North_Carolina_FIPS_3200_Feet\",GEOGCS[\"GCS_North_American_1983\",DATUM[\"D_North_American_1983\",SPHEROID[\"GRS_1980\",6378137.0,298.257222101]],PRIMEM[\"Greenwich\",0.0],UNIT[\"Degree\",0.0174532925199433]],PROJECTION[\"Lambert_Conformal_Conic\"],PARAMETER[\"False_Easting\",2000000.002616666],PARAMETER[\"False_Northing\",0.0],PARAMETER[\"Central_Meridian\",-79.0],PARAMETER[\"Standard_Parallel_1\",34.33333333333334],PARAMETER[\"Standard_Parallel_2\",36.16666666666666],PARAMETER[\"Latitude_Of_Origin\",33.75],UNIT[\"Foot_US\",0.3048006096012192]],VERTCS[\"NAVD_1988\",VDATUM[\"North_American_Vertical_Datum_1988\"],PARAMETER[\"Vertical_Shift\",0.0],PARAMETER[\"Direction\",1.0],UNIT[\"Foot_US\",0.3048006096012192]]"
  }
 },
 "fullExtent": {
  "xmin": 1400428.8715782,
  "ymin": 460280.00000000733,
  "xmax": 1533768.8715782,
  "ymax": 645340.0000000073,
  "spatialReference": {
   "wkt": "PROJCS[\"NAD_1983_StatePlane_North_Carolina_FIPS_3200_Feet\",GEOGCS[\"GCS_North_American_1983\",DATUM[\"D_North_American_1983\",SPHEROID[\"GRS_1980\",6378137.0,298.257222101]],PRIMEM[\"Greenwich\",0.0],UNIT[\"Degree\",0.0174532925199433]],PROJECTION[\"Lambert_Conformal_Conic\"],PARAMETER[\"False_Easting\",2000000.002616666],PARAMETER[\"False_Northing\",0.0],PARAMETER[\"Central_Meridian\",-79.0],PARAMETER[\"Standard_Parallel_1\",34.33333333333334],PARAMETER[\"Standard_Parallel_2\",36.16666666666666],PARAMETER[\"Latitude_Of_Origin\",33.75],UNIT[\"Foot_US\",0.3048006096012192]],VERTCS[\"NAVD_1988\",VDATUM[\"North_American_Vertical_Datum_1988\"],PARAMETER[\"Vertical_Shift\",0.0],PARAMETER[\"Direction\",1.0],UNIT[\"Foot_US\",0.3048006096012192]]"
  }
 },
 "sortableFields": "",
 "heightModelInfo": {
  "heightModel": "gravity_related_height",
  "vertCRS": "NAVD_1988",
  "heightUnit": "us-foot"
 },
 "bandCount": 1,
 "pixelType": "F32",
 "minValues": [
  6.103515625E-5
 ],
 "maxValues": [
  170.82049560546875
 ],
 "meanValues": [
  5.85650183957253
 ],
 "stdvValues": [
  4.596657876757797
 ],
 "hasMultidimensions": false,
 "pixelSizeX": 10,
 "pixelSizeY": 10,
 "datasetFormat": "FGDBR",
 "uncompressedSize": 987036016,
 "blockWidth": 128,
 "blockHeight": 128,
 "compressionType": "NONE",
 "bandNames": [
  "Band_1"
 ],
 "allowCopy": true,
 "allowAnalysis": true,
 "itemAccess": false,
 "minPixelSize": 0,
 "maxPixelSize": 0,
 "copyrightText": "",
 "serviceDataType": "esriImageServiceDataTypeGeneric",
 "serviceSourceType": "esriImageServiceSourceTypeDataset",
 "objectIdField": "",
 "fields": [],
 "capabilities": "Image,Metadata,Mensuration",
 "defaultMosaicMethod": "Center",
 "allowedMosaicMethods": "",
 "sortField": "",
 "sortValue": null,
 "sortAscending": true,
 "mosaicOperator": "First",
 "defaultCompressionQuality": 75,
 "defaultResamplingMethod": "Bilinear",
 "maxImageHeight": 4100,
 "maxImageWidth": 15000,
 "allowRasterFunction": true,
 "rasterFunctionInfos": [
  {
   "name": "None",
   "description": "",
   "help": ""
  }
 ],
 "rasterTypeInfos": [
  {
   "name": "Raster Dataset",
   "description": "Supports all ArcGIS Raster Datasets",
   "help": ""
  }
 ],
 "mensurationCapabilities": "Basic",
 "hasHistograms": true,
 "hasColormap": false,
 "hasRasterAttributeTable": false,
 "minScale": 0,
 "maxScale": 0,
 "exportTilesAllowed": false,
 "supportsStatistics": false,
 "supportsAdvancedQueries": false,
 "editFieldsInfo": null,
 "ownershipBasedAccessControlForRasters": null,
 "allowComputeTiePoints": false,
 "useStandardizedQueries": true,
 "advancedQueryCapabilities": {
  "useStandardizedQueries": true,
  "supportsStatistics": false,
  "supportsOrderBy": false,
  "supportsDistinct": false,
  "supportsPagination": false
 },
 "spatialReference": {
  "wkt": "PROJCS[\"NAD_1983_StatePlane_North_Carolina_FIPS_3200_Feet\",GEOGCS[\"GCS_North_American_1983\",DATUM[\"D_North_American_1983\",SPHEROID[\"GRS_1980\",6378137.0,298.257222101]],PRIMEM[\"Greenwich\",0.0],UNIT[\"Degree\",0.0174532925199433]],PROJECTION[\"Lambert_Conformal_Conic\"],PARAMETER[\"False_Easting\",2000000.002616666],PARAMETER[\"False_Northing\",0.0],PARAMETER[\"Central_Meridian\",-79.0],PARAMETER[\"Standard_Parallel_1\",34.33333333333334],PARAMETER[\"Standard_Parallel_2\",36.16666666666666],PARAMETER[\"Latitude_Of_Origin\",33.75],UNIT[\"Foot_US\",0.3048006096012192]],VERTCS[\"NAVD_1988\",VDATUM[\"North_American_Vertical_Datum_1988\"],PARAMETER[\"Vertical_Shift\",0.0],PARAMETER[\"Direction\",1.0],UNIT[\"Foot_US\",0.3048006096012192]]"
 }
}
